BEGIN:VCALENDAR
VERSION:2.0
PRODID:-//Heimatfreunde Kleinendorf e.V. - ECPv6.15.15//NONSGML v1.0//EN
CALSCALE:GREGORIAN
METHOD:PUBLISH
X-ORIGINAL-URL:https://heimatfreunde-kleinendorf.de
X-WR-CALDESC:Veranstaltungen für Heimatfreunde Kleinendorf e.V.
REFRESH-INTERVAL;VALUE=DURATION:PT1H
X-Robots-Tag:noindex
X-PUBLISHED-TTL:PT1H
BEGIN:VTIMEZONE
TZID:Europe/Berlin
BEGIN:DAYLIGHT
TZOFFSETFROM:+0100
TZOFFSETTO:+0200
TZNAME:CEST
DTSTART:20220327T010000
END:DAYLIGHT
BEGIN:STANDARD
TZOFFSETFROM:+0200
TZOFFSETTO:+0100
TZNAME:CET
DTSTART:20221030T010000
END:STANDARD
BEGIN:DAYLIGHT
TZOFFSETFROM:+0100
TZOFFSETTO:+0200
TZNAME:CEST
DTSTART:20230326T010000
END:DAYLIGHT
BEGIN:STANDARD
TZOFFSETFROM:+0200
TZOFFSETTO:+0100
TZNAME:CET
DTSTART:20231029T010000
END:STANDARD
BEGIN:DAYLIGHT
TZOFFSETFROM:+0100
TZOFFSETTO:+0200
TZNAME:CEST
DTSTART:20240331T010000
END:DAYLIGHT
BEGIN:STANDARD
TZOFFSETFROM:+0200
TZOFFSETTO:+0100
TZNAME:CET
DTSTART:20241027T010000
END:STANDARD
END:VTIMEZONE
BEGIN:VEVENT
DTSTART;TZID=Europe/Berlin:20230325T093000
DTEND;TZID=Europe/Berlin:20230325T093000
DTSTAMP:20260421T201510
CREATED:20230219T104705Z
LAST-MODIFIED:20230219T104705Z
UID:5694-1679736600-1679736600@heimatfreunde-kleinendorf.de
SUMMARY:Aktion Sauberer Backs
DESCRIPTION:Da ist jede helfende Hand willkommen und Spaß macht es auch! Denn wir holen gemeinsam Kleinendorf aus dem Winterschlaf und klönen zum Abschluss bei Bratwurst und kühlen Getränken. Wir treffen uns am 18. um 9:00 Uhr am Schützenhaus und am 25. um 9:30 Uhr am Backs.
URL:https://heimatfreunde-kleinendorf.de/event/aktion-sauberer-backs/
LOCATION:Schützenhaus
ATTACH;FMTTYPE=image/jpeg:https://heimatfreunde-kleinendorf.de/wp-content/uploads/2023/02/AktionSaubereLandschaft23.jpg
END:VEVENT
END:VCALENDAR