BEGIN:VCALENDAR
VERSION:2.0
PRODID:-//Heimatfreunde Kleinendorf e.V. - ECPv6.15.15//NONSGML v1.0//EN
CALSCALE:GREGORIAN
METHOD:PUBLISH
X-WR-CALNAME:Heimatfreunde Kleinendorf e.V.
X-ORIGINAL-URL:https://heimatfreunde-kleinendorf.de
X-WR-CALDESC:Veranstaltungen für Heimatfreunde Kleinendorf e.V.
REFRESH-INTERVAL;VALUE=DURATION:PT1H
X-Robots-Tag:noindex
X-PUBLISHED-TTL:PT1H
BEGIN:VTIMEZONE
TZID:Europe/Berlin
BEGIN:DAYLIGHT
TZOFFSETFROM:+0100
TZOFFSETTO:+0200
TZNAME:CEST
DTSTART:20220327T010000
END:DAYLIGHT
BEGIN:STANDARD
TZOFFSETFROM:+0200
TZOFFSETTO:+0100
TZNAME:CET
DTSTART:20221030T010000
END:STANDARD
BEGIN:DAYLIGHT
TZOFFSETFROM:+0100
TZOFFSETTO:+0200
TZNAME:CEST
DTSTART:20230326T010000
END:DAYLIGHT
BEGIN:STANDARD
TZOFFSETFROM:+0200
TZOFFSETTO:+0100
TZNAME:CET
DTSTART:20231029T010000
END:STANDARD
BEGIN:DAYLIGHT
TZOFFSETFROM:+0100
TZOFFSETTO:+0200
TZNAME:CEST
DTSTART:20240331T010000
END:DAYLIGHT
BEGIN:STANDARD
TZOFFSETFROM:+0200
TZOFFSETTO:+0100
TZNAME:CET
DTSTART:20241027T010000
END:STANDARD
END:VTIMEZONE
BEGIN:VEVENT
DTSTART;TZID=Europe/Berlin:20230512T193000
DTEND;TZID=Europe/Berlin:20230512T193000
DTSTAMP:20260421T153514
CREATED:20230219T104933Z
LAST-MODIFIED:20230219T104933Z
UID:5696-1683919800-1683919800@heimatfreunde-kleinendorf.de
SUMMARY:Whisky-Tasting in Schlumps Backs
DESCRIPTION:Jens Peter Walther – oder ganz einfach „JP“ – ist DER Whisky-Kenner schlechthin.\nDa gibt´s für 55 € nicht nur 6 Whiskysorten samt Überraschung zum Genießen\,\nsondern auch noch jede Menge Infos und Anekdoten.\nAnmeldungen bis zum 15.03. bitte an Udo Redeker udo.redeker@hfkl.de\noder 0172/2377088.
URL:https://heimatfreunde-kleinendorf.de/event/whisky-tasting-in-schlumps-backs/
LOCATION:Schlumps Backs\, Stellge 12a\, Rahden\, 32369
ATTACH;FMTTYPE=image/jpeg:https://heimatfreunde-kleinendorf.de/wp-content/uploads/2023/02/Whiskytasting23.jpg
END:VEVENT
BEGIN:VEVENT
DTSTART;VALUE=DATE:20230518
DTEND;VALUE=DATE:20230519
DTSTAMP:20260421T153514
CREATED:20230219T105132Z
LAST-MODIFIED:20230219T105132Z
UID:5699-1684368000-1684454399@heimatfreunde-kleinendorf.de
SUMMARY:Vatertag an Schlumps Backs
DESCRIPTION:Wenn der Vater mit der Familie … \nNicht alle Papas sind an diesem Tag mit Bollerwagen und den\nKumpels unterwegs. Für alle\, die Himmelfahrt zum Familientag\nmachen wollen\, bietet Schlumps Backs ein tolles Ziel.\nHüpfburg\, Spielplatz und Leckeres zur Stärkung werden\nhoffentlich viele fröhliche Familien nach Kleinendorf locken.
URL:https://heimatfreunde-kleinendorf.de/event/vatertag-an-schlumps-backs/
LOCATION:Schlumps Backs\, Stellge 12a\, Rahden\, 32369
ATTACH;FMTTYPE=image/jpeg:https://heimatfreunde-kleinendorf.de/wp-content/uploads/2023/02/Vatertag23.jpg
END:VEVENT
END:VCALENDAR